BEGIN:VCALENDAR
VERSION:2.0
PRODID:-//ChamberMaster//Event Calendar 2.0//EN
METHOD:PUBLISH
X-PUBLISHED-TTL:P1H
REFRESH-INTERVAL:P1H
CALSCALE:GREGORIAN
BEGIN:VTIMEZONE
TZID:America/New_York
BEGIN:DAYLIGHT
RRULE:FREQ=YEARLY;BYMONTH=3;BYDAY=2SU
DTSTART:20070101T000000
TZOFFSETFROM:-0500
TZOFFSETTO:-0400
TZNAME:Eastern Daylight Time
END:DAYLIGHT
BEGIN:STANDARD
RRULE:FREQ=YEARLY;BYMONTH=11;BYDAY=1SU
DTSTART:20070101T000000
TZOFFSETFROM:-0400
TZOFFSETTO:-0500
TZNAME:Eastern Standard Time
END:STANDARD
END:VTIMEZONE
BEGIN:VEVENT
DTSTART;TZID=America/New_York:20260610T113000
DTEND;TZID=America/New_York:20260610T130000
X-MICROSOFT-CDO-ALLDAYEVENT:FALSE
SUMMARY:Bridge to Bridge presented by Baptist Medical Center Clay guest speaker\, Brian Knight\, Founder\, Pragmatic Works
DESCRIPTION:Brian Knight\, founder and owner\, Pragmatic Works\, will speak about AI and how our world and "Clay County" is beginning to use and benefit from AI.Brian Knight is the owner and founder of Pragmatic Works and is a serial entrepreneur\, starting up other companies. Brian is a contributing columnist at several technical magazines and does regular webcasts. He is the author of more than 16 technical books. Brian has spoken at hundreds of technical and business conferences around the world. He has received a number of awards from the state\, governor\, and press like the Business Ambassador Award (Governor) and Top CEO (Jacksonville Magazine).
X-ALT-DESC;FMTTYPE=text/html:<!DOCTYPE html><html><head><title></title></head><body aria-disabled="false"><p>Brian Knight\, founder and owner\, Pragmatic Works\, will speak about AI and how our world and &ldquo\;Clay County&rdquo\; is beginning to use and benefit from AI.</p><p>Brian Knight is the owner and founder of Pragmatic Works and is a serial entrepreneur\, starting up other companies. Brian is a contributing columnist at several technical magazines and does regular webcasts. He is the author of more than 16 technical books. Brian has spoken at hundreds of technical and business conferences around the world. He has received a number of awards from the state\, governor\, and press like the Business Ambassador Award (Governor) and Top CEO (Jacksonville Magazine).</p></body></html>
LOCATION:1771 Baptist Clay Dr Fleming Island FL 32003
UID:e.1681.1438149
SEQUENCE:3
DTSTAMP:20260422T065301Z
URL:https://business.claychamber.com/events/Details/bridge-to-bridge-presented-by-baptist-medical-center-clay-guest-speaker-brian-knight-founder-pragmatic-works-1702160?sourceTypeId=Hub
END:VEVENT
END:VCALENDAR
