BEGIN:VCALENDAR
VERSION:2.0
PRODID:-//ChamberMaster//Event Calendar 2.0//EN
METHOD:PUBLISH
X-PUBLISHED-TTL:P1H
REFRESH-INTERVAL:P1H
CALSCALE:GREGORIAN
BEGIN:VTIMEZONE
TZID:America/New_York
BEGIN:DAYLIGHT
RRULE:FREQ=YEARLY;BYMONTH=3;BYDAY=2SU
DTSTART:20070101T000000
TZOFFSETFROM:-0500
TZOFFSETTO:-0400
TZNAME:Eastern Daylight Time
END:DAYLIGHT
BEGIN:STANDARD
RRULE:FREQ=YEARLY;BYMONTH=11;BYDAY=1SU
DTSTART:20070101T000000
TZOFFSETFROM:-0400
TZOFFSETTO:-0500
TZNAME:Eastern Standard Time
END:STANDARD
END:VTIMEZONE
BEGIN:VEVENT
DTSTART;TZID=America/New_York:20261015T113000
DTEND;TZID=America/New_York:20261015T130000
X-MICROSOFT-CDO-ALLDAYEVENT:FALSE
SUMMARY:Lunch & Learn with Barbara Proctor a Professional Registered Parliamentarian
DESCRIPTION:Join Barbara Proctor a Professional Registered Parliamentarian. She will give an overview of Robert's Rules: The story of people learning to work together\, of members finding their voice\, leaders gaining confidence\, and organizations growing stronger through a fair and trusted process. This inspiring presentation reveals how parliamentary procedure turns meetings into places where ideas are heard\, decisions are thoughtful\, and collaboration leads to progress. Participants will leave with a renewed appreciation for the power of Robert's Rules to strengthen both leaders and the organizations they serve.
X-ALT-DESC;FMTTYPE=text/html:<!DOCTYPE html><html><head><title></title></head><body aria-disabled="false"><p>Join Barbara Proctor a Professional Registered Parliamentarian. She will give an overview of Robert&#39\;s Rules: The story of people learning to work together\, of members finding their voice\, leaders gaining confidence\, and organizations growing stronger through a fair and trusted process. This inspiring presentation reveals how parliamentary procedure turns meetings into places where ideas are heard\, decisions are thoughtful\, and collaboration leads to progress. Participants will leave with a renewed appreciation for the power of Robert&rsquo\;s Rules to strengthen both leaders and the organizations they serve.</p></body></html>
LOCATION:745 Blanding Blvd Orange Park FL 32065
UID:e.1681.1443686
SEQUENCE:3
DTSTAMP:20260422T065123Z
URL:https://business.claychamber.com/events/Details/lunch-learn-with-barbara-proctor-a-professional-registered-parliamentarian-1709915?sourceTypeId=Hub
END:VEVENT
END:VCALENDAR
