BEGIN:VCALENDAR
VERSION:2.0
PRODID:-//ChamberMaster//Event Calendar 2.0//EN
METHOD:PUBLISH
X-PUBLISHED-TTL:P1H
REFRESH-INTERVAL:P1H
CALSCALE:GREGORIAN
BEGIN:VTIMEZONE
TZID:America/New_York
BEGIN:DAYLIGHT
RRULE:FREQ=YEARLY;BYMONTH=3;BYDAY=2SU
DTSTART:20070101T000000
TZOFFSETFROM:-0500
TZOFFSETTO:-0400
TZNAME:Eastern Daylight Time
END:DAYLIGHT
BEGIN:STANDARD
RRULE:FREQ=YEARLY;BYMONTH=11;BYDAY=1SU
DTSTART:20070101T000000
TZOFFSETFROM:-0400
TZOFFSETTO:-0500
TZNAME:Eastern Standard Time
END:STANDARD
END:VTIMEZONE
BEGIN:VEVENT
DTSTART;TZID=America/New_York:20260506T160000
DTEND;TZID=America/New_York:20260506T170000
X-MICROSOFT-CDO-ALLDAYEVENT:FALSE
SUMMARY:Portal Power-Up - Chamber 101
DESCRIPTION:Get the most out of your Chamber membership! Need to know which Chamber networking events are the right fit for you and your business' growth? Chamber staff will teach you how to use your member portal\, maneuver through your landing page on our Web site\, add your events to the member calendar\, post your job openings\, add another contact to your business\, and much more. \n﻿Taught by Chamber staff\, this informative session is ideal for all Chamber members.
X-ALT-DESC;FMTTYPE=text/html:<!DOCTYPE html><html><head><title></title></head><body aria-disabled="false"><p style="margin: 0px\; padding: 0px\; color: rgb(52\, 51\, 50)\; font-family: Arial\, Verdana\, Helvetica\, sans-serif\; font-size: 16px\; font-style: normal\; font-variant-ligatures: normal\; font-variant-caps: normal\; font-weight: 400\; letter-spacing: normal\; orphans: 2\; text-align: left\; text-indent: 0px\; text-transform: none\; widows: 2\; word-spacing: 0px\; -webkit-text-stroke-width: 0px\; white-space: pre-wrap\; background-color: rgb(255\, 255\, 255)\; text-decoration-thickness: initial\; text-decoration-style: initial\; text-decoration-color: initial\;"><span style="font-size: 16px\; color: rgb(0\, 0\, 0)\; font-family: Arial\, Verdana\, Helvetica\, sans-serif\;">Get the most out of your Chamber membership! Need to know which Chamber networking events are the right fit for you and your business&#39\; growth? Chamber staff will teach you how to use your member portal\, maneuver through your landing page on our Web site\, add your events to the member calendar\, post your job openings\, add another contact to your business\, and much more.&nbsp\;</span></p><p style="margin: 0px\; padding: 0px\; color: rgb(52\, 51\, 50)\; font-family: Arial\, Verdana\, Helvetica\, sans-serif\; font-size: 16px\; font-style: normal\; font-variant-ligatures: normal\; font-variant-caps: normal\; font-weight: 400\; letter-spacing: normal\; orphans: 2\; text-align: left\; text-indent: 0px\; text-transform: none\; widows: 2\; word-spacing: 0px\; -webkit-text-stroke-width: 0px\; white-space: pre-wrap\; background-color: rgb(255\, 255\, 255)\; text-decoration-thickness: initial\; text-decoration-style: initial\; text-decoration-color: initial\;"><br></p><p style="margin: 0px\; padding: 0px\; color: rgb(52\, 51\, 50)\; font-family: Arial\, Verdana\, Helvetica\, sans-serif\; font-size: 16px\; font-style: normal\; font-variant-ligatures: normal\; font-variant-caps: normal\; font-weight: 400\; letter-spacing: normal\; orphans: 2\; text-align: left\; text-indent: 0px\; text-transform: none\; widows: 2\; word-spacing: 0px\; -webkit-text-stroke-width: 0px\; white-space: pre-wrap\; background-color: rgb(255\, 255\, 255)\; text-decoration-thickness: initial\; text-decoration-style: initial\; text-decoration-color: initial\;"><span style="font-size: 16px\; color: rgb(0\, 0\, 0)\; font-family: Arial\, Verdana\, Helvetica\, sans-serif\;">﻿Taught by Chamber staff\, this informative session is ideal for all Chamber members.</span></p></body></html>
LOCATION:2042 Park Ave\, Ste 111 Orange Park FL 32073
UID:e.1681.1444803
SEQUENCE:3
DTSTAMP:20260422T065114Z
URL:https://business.claychamber.com/events/Details/portal-power-up-chamber-101-1711201?sourceTypeId=Hub
END:VEVENT
END:VCALENDAR
