BEGIN:VCALENDAR
VERSION:2.0
PRODID:-//ChamberMaster//Event Calendar 2.0//EN
METHOD:PUBLISH
X-PUBLISHED-TTL:P1H
REFRESH-INTERVAL:P1H
CALSCALE:GREGORIAN
BEGIN:VTIMEZONE
TZID:America/New_York
BEGIN:DAYLIGHT
RRULE:FREQ=YEARLY;BYMONTH=3;BYDAY=2SU
DTSTART:20070101T000000
TZOFFSETFROM:-0500
TZOFFSETTO:-0400
TZNAME:Eastern Daylight Time
END:DAYLIGHT
BEGIN:STANDARD
RRULE:FREQ=YEARLY;BYMONTH=11;BYDAY=1SU
DTSTART:20070101T000000
TZOFFSETFROM:-0400
TZOFFSETTO:-0500
TZNAME:Eastern Standard Time
END:STANDARD
END:VTIMEZONE
BEGIN:VEVENT
DTSTART;TZID=America/New_York:20260529T110000
DTEND;TZID=America/New_York:20260529T123000
X-MICROSOFT-CDO-ALLDAYEVENT:FALSE
SUMMARY:Ribbon Cutting- Challenge Enterprises Emily's Way
DESCRIPTION:Join us for a ribbon cutting at Challenge Enterprises Plaza in Orange Park.
X-ALT-DESC;FMTTYPE=text/html:Join us for a ribbon cutting at Challenge Enterprises Plaza in Orange Park.
LOCATION:550 Kingsley Avenuew Orange Park FL 32073
UID:e.1681.1442581
SEQUENCE:3
DTSTAMP:20260422T065113Z
URL:https://business.claychamber.com/events/Details/ribbon-cutting-challenge-enterprises-emily-s-way-1708622?sourceTypeId=Hub
END:VEVENT
END:VCALENDAR
