BEGIN:VCALENDAR
VERSION:2.0
PRODID:-//ChamberMaster//Event Calendar 2.0//EN
METHOD:PUBLISH
X-PUBLISHED-TTL:P1H
REFRESH-INTERVAL:P1H
CALSCALE:GREGORIAN
BEGIN:VTIMEZONE
TZID:America/New_York
BEGIN:DAYLIGHT
RRULE:FREQ=YEARLY;BYMONTH=3;BYDAY=2SU
DTSTART:20070101T000000
TZOFFSETFROM:-0500
TZOFFSETTO:-0400
TZNAME:Eastern Daylight Time
END:DAYLIGHT
BEGIN:STANDARD
RRULE:FREQ=YEARLY;BYMONTH=11;BYDAY=1SU
DTSTART:20070101T000000
TZOFFSETFROM:-0400
TZOFFSETTO:-0500
TZNAME:Eastern Standard Time
END:STANDARD
END:VTIMEZONE
BEGIN:VEVENT
DTSTART;TZID=America/New_York:20260612T103000
DTEND;TZID=America/New_York:20260612T113000
X-MICROSOFT-CDO-ALLDAYEVENT:FALSE
SUMMARY:Ribbon Cutting-- FRSTeam of North Florida
DESCRIPTION:Join us\, directly after Finally Friday\, for a ribbon cutting celebrating our new Trustee member\, FRSTeam of North Florida\,
X-ALT-DESC;FMTTYPE=text/html:Join us\, directly after Finally Friday\, for a ribbon cutting celebrating our new Trustee member\, FRSTeam of North Florida\,
LOCATION:745 Blanding Blvd Orange Park FL 32065
UID:e.1681.1446952
SEQUENCE:3
DTSTAMP:20260422T065154Z
URL:https://business.claychamber.com/events/Details/ribbon-cutting-frsteam-of-north-florida-1713759?sourceTypeId=Hub
END:VEVENT
END:VCALENDAR
