BEGIN:VCALENDAR
VERSION:2.0
PRODID:-//ChamberMaster//Event Calendar 2.0//EN
METHOD:PUBLISH
X-PUBLISHED-TTL:P1H
REFRESH-INTERVAL:P1H
CALSCALE:GREGORIAN
BEGIN:VTIMEZONE
TZID:America/New_York
BEGIN:DAYLIGHT
RRULE:FREQ=YEARLY;BYMONTH=3;BYDAY=2SU
DTSTART:20070101T000000
TZOFFSETFROM:-0500
TZOFFSETTO:-0400
TZNAME:Eastern Daylight Time
END:DAYLIGHT
BEGIN:STANDARD
RRULE:FREQ=YEARLY;BYMONTH=11;BYDAY=1SU
DTSTART:20070101T000000
TZOFFSETFROM:-0400
TZOFFSETTO:-0500
TZNAME:Eastern Standard Time
END:STANDARD
END:VTIMEZONE
BEGIN:VEVENT
DTSTART;TZID=America/New_York:20260428T160000
DTEND;TZID=America/New_York:20260428T170000
X-MICROSOFT-CDO-ALLDAYEVENT:FALSE
SUMMARY:Small Business Proclamation with SBDC at Board of County Commissioner Meeting
DESCRIPTION:We will join Chris Evangelista\, SBDC\, Senior Business Consultant for a proclamation and special small business recognition at the Clay County Board of County Commissioners meeting. All small business owners are invited to attend and be recognized.
X-ALT-DESC;FMTTYPE=text/html:We will join Chris Evangelista\, SBDC\, Senior Business Consultant for a proclamation and special small business recognition at the Clay County Board of County Commissioners meeting. All small business owners are invited to attend and be recognized.
LOCATION:477 Houston Street Green Cove Springs FL 32043
UID:e.1681.1436700
SEQUENCE:3
DTSTAMP:20260422T065231Z
URL:https://business.claychamber.com/events/Details/small-business-proclamation-with-sbdc-at-board-of-county-commissioner-meeting-1700718?sourceTypeId=Hub
END:VEVENT
END:VCALENDAR
